BEGIN:VCALENDAR
VERSION:2.0
PRODID:-//PEC - ECPv6.15.18//NONSGML v1.0//EN
CALSCALE:GREGORIAN
METHOD:PUBLISH
X-WR-CALNAME:PEC
X-ORIGINAL-URL:https://mypec.com
X-WR-CALDESC:Events for PEC
REFRESH-INTERVAL;VALUE=DURATION:PT1H
X-Robots-Tag:noindex
X-PUBLISHED-TTL:PT1H
BEGIN:VTIMEZONE
TZID:America/Chicago
BEGIN:DAYLIGHT
TZOFFSETFROM:-0600
TZOFFSETTO:-0500
TZNAME:CDT
DTSTART:20250309T080000
END:DAYLIGHT
BEGIN:STANDARD
TZOFFSETFROM:-0500
TZOFFSETTO:-0600
TZNAME:CST
DTSTART:20251102T070000
END:STANDARD
BEGIN:DAYLIGHT
TZOFFSETFROM:-0600
TZOFFSETTO:-0500
TZNAME:CDT
DTSTART:20260308T080000
END:DAYLIGHT
BEGIN:STANDARD
TZOFFSETFROM:-0500
TZOFFSETTO:-0600
TZNAME:CST
DTSTART:20261101T070000
END:STANDARD
BEGIN:DAYLIGHT
TZOFFSETFROM:-0600
TZOFFSETTO:-0500
TZNAME:CDT
DTSTART:20270314T080000
END:DAYLIGHT
BEGIN:STANDARD
TZOFFSETFROM:-0500
TZOFFSETTO:-0600
TZNAME:CST
DTSTART:20271107T070000
END:STANDARD
END:VTIMEZONE
BEGIN:VEVENT
DTSTART;TZID=America/Chicago:20260529T100000
DTEND;TZID=America/Chicago:20260529T120000
DTSTAMP:20260422T131251
CREATED:20260401T154455Z
LAST-MODIFIED:20260401T154455Z
UID:12775-1780048800-1780056000@mypec.com
SUMMARY:Meet a Lineworker – Liberty Hill
DESCRIPTION:Learn about careers in linework\, try on safety gear\, and watch PEC crews in action on a bucket truck.
URL:https://mypec.com/event/meet-a-lineworker-liberty-hill/
LOCATION:Liberty Hill Public Library\, 355 Main Street\, Liberty Hill\, TX\, 78642\, United States
CATEGORIES:Camp Save-a-Watt
ATTACH;FMTTYPE=image/jpeg:https://mypec.com/wp-content/uploads/2025/05/Web_MeetALineworker.jpg
END:VEVENT
BEGIN:VEVENT
DTSTART;TZID=America/Chicago:20260610T093000
DTEND;TZID=America/Chicago:20260610T110000
DTSTAMP:20260422T131251
CREATED:20260401T154710Z
LAST-MODIFIED:20260401T154820Z
UID:12778-1781083800-1781089200@mypec.com
SUMMARY:Meet a Lineworker - Bulverde
DESCRIPTION:Learn about careers in linework\, try on safety gear\, and watch PEC crews in action on a bucket truck.
URL:https://mypec.com/event/meet-a-lineworker-bulverde/
LOCATION:Mammen Family Public Library\, 131 Bulverde Crossing\, Bulverde\, TX\, 78163\, United States
CATEGORIES:Camp Save-a-Watt
ATTACH;FMTTYPE=image/jpeg:https://mypec.com/wp-content/uploads/2025/05/Web_CSAW-MeetALineworker.jpg
END:VEVENT
BEGIN:VEVENT
DTSTART;TZID=America/Chicago:20260623T100000
DTEND;TZID=America/Chicago:20260623T120000
DTSTAMP:20260422T131251
CREATED:20260311T153427Z
LAST-MODIFIED:20260401T155959Z
UID:12331-1782208800-1782216000@mypec.com
SUMMARY:Solar Car Derby
DESCRIPTION:Have fun building and racing solar cars and meeting PEC’s Camp Save-a-Watt mascot\, Wattson Raccoon! You’ll also get to enjoy face painting\, slot car racing\, music\, games\, and more! Register June 1-19.
URL:https://mypec.com/event/solar-car-derby/
LOCATION:Cedar Park Recreation Center\, 1435 Main Street\, Cedar Park\, Texas\, 78613\, United States
CATEGORIES:Camp Save-a-Watt
ATTACH;FMTTYPE=image/jpeg:https://mypec.com/wp-content/uploads/2026/03/solar-derby.jpg
END:VEVENT
BEGIN:VEVENT
DTSTART;TZID=America/Chicago:20260707T101500
DTEND;TZID=America/Chicago:20260707T111500
DTSTAMP:20260422T131251
CREATED:20260401T155112Z
LAST-MODIFIED:20260401T155112Z
UID:12781-1783419300-1783422900@mypec.com
SUMMARY:Meet a Lineworker - Burnet
DESCRIPTION:Learn about careers in linework\, try on safety gear\, and watch PEC crews in action on a bucket truck.
URL:https://mypec.com/event/meet-a-lineworker-burnet/
LOCATION:Herman Brown Free Library\, 100 E Washington Street\, Burnet\, TX\, 78611\, United States
CATEGORIES:Camp Save-a-Watt
ATTACH;FMTTYPE=image/jpeg:https://mypec.com/wp-content/uploads/2025/05/Web_MeetALineworker.jpg
END:VEVENT
BEGIN:VEVENT
DTSTART;TZID=America/Chicago:20260721T133000
DTEND;TZID=America/Chicago:20260721T160000
DTSTAMP:20260422T131251
CREATED:20260401T155342Z
LAST-MODIFIED:20260401T155342Z
UID:12784-1784640600-1784649600@mypec.com
SUMMARY:Egg Drop Challenge - Buda
DESCRIPTION:A STEAM challenge where participants build contraptions to protect an egg and can test the effectiveness of their design as it drops from a PEC bucket truck. Register July 1 – 17 for your specific timeslot.
URL:https://mypec.com/event/egg-drop-challenge-buda/
LOCATION:Buda Public Library\, 405 E Loop Street\, Buda\, TX\, 78610\, United States
ATTACH;FMTTYPE=image/jpeg:https://mypec.com/wp-content/uploads/2025/08/Web_CSAW_EggDropChallenge.jpg
END:VEVENT
BEGIN:VEVENT
DTSTART;TZID=America/Chicago:20260724T103000
DTEND;TZID=America/Chicago:20260724T120000
DTSTAMP:20260422T131251
CREATED:20260401T155603Z
LAST-MODIFIED:20260401T155916Z
UID:12788-1784889000-1784894400@mypec.com
SUMMARY:Egg Drop Challenge - Bertram
DESCRIPTION:A STEAM challenge where participants build onsite or bring contraptions from home to protect an egg and can test the effectiveness of their design as it drops from a PEC bucket truck. Register July 1 – 17.
URL:https://mypec.com/event/egg-drop-challenge-bertram/
LOCATION:Joann Cole Mitte Public Library\, 170 S Gabriel Street\, Bertram\, TX\, 78605\, United States
ATTACH;FMTTYPE=image/jpeg:https://mypec.com/wp-content/uploads/2024/01/CSAW_EggDrop01357-scaled.jpg
END:VEVENT
END:VCALENDAR