BEGIN:VCALENDAR
VERSION:2.0
PRODID:-//PEC - ECPv6.15.18//NONSGML v1.0//EN
CALSCALE:GREGORIAN
METHOD:PUBLISH
X-WR-CALNAME:PEC
X-ORIGINAL-URL:https://mypec.com
X-WR-CALDESC:Events for PEC
REFRESH-INTERVAL;VALUE=DURATION:PT1H
X-Robots-Tag:noindex
X-PUBLISHED-TTL:PT1H
BEGIN:VTIMEZONE
TZID:America/Chicago
BEGIN:DAYLIGHT
TZOFFSETFROM:-0600
TZOFFSETTO:-0500
TZNAME:CDT
DTSTART:20250309T080000
END:DAYLIGHT
BEGIN:STANDARD
TZOFFSETFROM:-0500
TZOFFSETTO:-0600
TZNAME:CST
DTSTART:20251102T070000
END:STANDARD
BEGIN:DAYLIGHT
TZOFFSETFROM:-0600
TZOFFSETTO:-0500
TZNAME:CDT
DTSTART:20260308T080000
END:DAYLIGHT
BEGIN:STANDARD
TZOFFSETFROM:-0500
TZOFFSETTO:-0600
TZNAME:CST
DTSTART:20261101T070000
END:STANDARD
BEGIN:DAYLIGHT
TZOFFSETFROM:-0600
TZOFFSETTO:-0500
TZNAME:CDT
DTSTART:20270314T080000
END:DAYLIGHT
BEGIN:STANDARD
TZOFFSETFROM:-0500
TZOFFSETTO:-0600
TZNAME:CST
DTSTART:20271107T070000
END:STANDARD
END:VTIMEZONE
BEGIN:VEVENT
DTSTART;TZID=America/Chicago:20260418T100000
DTEND;TZID=America/Chicago:20260418T130000
DTSTAMP:20260422T144156
CREATED:20260327T200437Z
LAST-MODIFIED:20260327T201252Z
UID:12625-1776506400-1776517200@mypec.com
SUMMARY:Ready as One Emergency Preparedness Fair
DESCRIPTION:Join PEC\, the Burnet County Sheriff’s Office\, and the Burnet County Office of Emergency Management on April 18 for Ready as One\, an emergency preparedness fair! Find community resources\, engage in fun\, hands-on activities\, and enjoy free food! \n• Free hot dog lunch and Kona Ice• Bounce house• Touch a truck and meet your community heroes• Meet Wattson\, PEC’s mascot• Start your collection with exciting\, Wattson-themed trading cards
URL:https://mypec.com/event/ready-as-one-emergency-preparedness-fair/
LOCATION:Marble Falls Middle School\, 1511 Pony Drive\, Marble Falls\, TX\, 78654\, United States
ATTACH;FMTTYPE=image/jpeg:https://mypec.com/wp-content/uploads/2025/06/RAO-LINEWORKER-2.jpg
END:VEVENT
BEGIN:VEVENT
DTSTART;VALUE=DATE:20260401
DTEND;VALUE=DATE:20260402
DTSTAMP:20260422T144156
CREATED:20260312T164037Z
LAST-MODIFIED:20260327T203118Z
UID:12339-1775001600-1775087999@mypec.com
SUMMARY:Camp Save-a-Watt Registration Opens
DESCRIPTION:Register April 1 through May 29. Registrations before May 8 will receive a free camp T-shirt! Camp Save-a-Watt™ is PEC’s free\, virtual summer camp developed for students in kindergarten through fifth grade. During the eight-week camp\, students can access weekly educational videos\, mini-lessons\, crafts\, and activities to learn more about energy conservation and electrical safety.
URL:https://mypec.com/event/camp-save-a-watt/
LOCATION:Online
CATEGORIES:Camp Save-a-Watt
ATTACH;FMTTYPE=image/jpeg:https://mypec.com/wp-content/uploads/2026/03/camp-save-a-watt.jpg
END:VEVENT
END:VCALENDAR